{"text_format":"3","workbook":"xlsx","n_sheets":3,"sheets":["申込ｼｰﾄ","印刷用","記入例"],"not_rendered":{"defined_names":3},"read":"whole","date_system":"1900"}

{"sheet":"申込ｼｰﾄ","index":0,"n_rows":80,"n_cols":21,"rows_kept":80,"merged":[[7,1,7,2],[60,1,60,2],[62,1,62,2],[62,4,62,7],[63,1,63,2],[63,4,63,6],[66,4,66,7],[68,11,68,12],[69,11,69,12],[70,11,70,12],[72,10,73,11],[72,12,73,13]]}
[null,"第12回スプリングフェスティバルin駒場申込書",{"$nulls":9},"↓E63に記入",null,null,"↓記入しない"]
[]
[null,null,"参加団体コード",null,"競技者ｺｰﾄﾞ","性ｺｰﾄﾞ","ﾅﾝﾊﾞｰ","氏","名","ﾌﾘ","ｶﾞﾅ","団体名","学年","出場種目ｺｰﾄﾞ","出場種目","最高記録","都道府県名","JAAF-ID"]
[{"$nulls":4},1,{"$nulls":6},{"$f":"E63","v":0},null,null,{"$f":"IF(N4=\"\",\"\",VLOOKUP(N4,$B$15:$Q$54,2))","v":""},{"$nulls":4},"①","団体名を記入（略称で記入ください中学校は中・高校は高まで）"]
[null,null,"↑",null,2,{"$nulls":6},{"$f":"$L$4","v":0},null,null,{"$f":"IF(N5=\"\",\"\",VLOOKUP(N5,$B$15:$Q$54,2))","v":""},{"$nulls":5},"（記入場所はページ下部の団体名。E63セル）"]
[null,"中学2･高校3･一般4",null,null,3,{"$nulls":6},{"$f":"$L$4","v":0},null,null,"",{"$nulls":4},"②","性別を記入　男子＝１　女子＝２"]
[{"$nulls":4},4,{"$nulls":6},0,null,null,"",{"$nulls":4},"③","ナンバーカードを記入"]
[null,"性別コード",null,null,5,{"$nulls":6},0,null,null,"",{"$nulls":4},"④","氏名記入（氏と名を分けてください）"]
[null,1,"男子",null,6,{"$nulls":6},0,null,null,"",{"$nulls":4},"⑤","フリガナは半角カタカナ"]
[null,2,"女子",null,7,{"$nulls":6},0,null,null,"",{"$nulls":4},"⑥","学年を記入"]
[{"$nulls":4},8,{"$nulls":6},0,null,null,"",{"$nulls":4},"⑦","出場種目コードを記入"]
[{"$nulls":4},9,{"$nulls":6},0,null,null,"",{"$nulls":4},"⑧","シート下側も記載お願い致します。"]
[{"$nulls":4},10,{"$nulls":6},0,null,null,"",{"$nulls":4},"⑨","参加料の記入をしてください。"]
[null,"ｺｰﾄﾞ","種目",null,11,{"$nulls":6},0,null,null,"",{"$nulls":4},"⑩","記録は"]
[null,1,"男子100m",null,12,{"$nulls":6},0,null,null,"",{"$nulls":5},"分＝."]
[null,2,"男子400m",null,13,{"$nulls":6},0,null,null,"",{"$nulls":5},"秒＝."]
[null,3,"男子800m",null,14,{"$nulls":6},0,null,null,"",{"$nulls":5},"ｍ＝ｍ"]
[null,4,"男子1500m",null,15,{"$nulls":6},0,null,null,"",{"$nulls":5},"数字は半角でお願いします。"]
[null,5,"男子5000m",null,16,{"$nulls":6},0,null,null,""]
[null,6,"中学男子110mH(0.914m)",null,17,{"$nulls":6},0,null,null,""]
[null,7,"男子110mH(1.067m)",null,18,{"$nulls":6},0,null,null,""]
[null,8,null,null,19,{"$nulls":6},0,null,null,""]
[null,9,null,null,20,{"$nulls":6},0,null,null,""]
[null,10,"男子走高跳",null,21,{"$nulls":6},0,null,null,""]
[null,11,"男子棒高跳",null,22,{"$nulls":6},0,null,null,""]
[null,12,"男子走幅跳",null,23,{"$nulls":6},0,null,null,""]
[null,13,"中学男子砲丸投(5.000kg)",null,24,{"$nulls":6},0,null,null,""]
[null,14,"高校男子砲丸投(6.000kg)",null,25,{"$nulls":6},0,null,null,""]
[null,15,"男子砲丸投(7.260kg)",null,26,{"$nulls":6},0,null,null,""]
[null,16,"女子100m",null,27,{"$nulls":6},0,null,null,""]
[null,17,"女子400m",null,28,{"$nulls":6},0,null,null,""]
[null,18,"女子800m",null,29,{"$nulls":6},0,null,null,""]
[null,19,"女子1500m",null,30,{"$nulls":6},0,null,null,""]
[null,20,"女子3000m",null,31,{"$nulls":6},0,null,null,""]
[null,21,"中学女子100mH(0.762m)",null,32,{"$nulls":6},0,null,null,""]
[null,22,"女子100mH(0.840m)",null,33,{"$nulls":6},0,null,null,""]
[null,23,null,null,34,{"$nulls":6},0,null,null,""]
[null,24,null,null,35,{"$nulls":6},0,null,null,""]
[null,25,"女子走高跳",null,36,{"$nulls":6},0,null,null,""]
[null,26,"女子棒高跳",null,37,{"$nulls":6},0,null,null,""]
[null,27,"女子走幅跳",null,38,{"$nulls":6},0,null,null,""]
[null,28,"中学女子砲丸投(2.721kg)",null,39,{"$nulls":6},0,null,null,""]
[null,29,"女子砲丸投(4.000kg)",null,40,{"$nulls":6},0,null,null,""]
[null,30,null,null,41,{"$nulls":6},0,null,null,""]
[null,31,null,null,42,{"$nulls":6},0,null,null,""]
[null,32,null,null,43,{"$nulls":6},0,null,null,""]
[null,33,null,null,44,{"$nulls":6},0,null,null,""]
[null,34,null,null,45,{"$nulls":6},0,null,null,""]
[null,35,null,null,46,{"$nulls":6},0,null,null,""]
[null,36,null,null,47,{"$nulls":6},0,null,null,""]
[null,37,null,null,48,{"$nulls":6},0,null,null,""]
[null,38,null,null,49,{"$nulls":6},0,null,null,""]
[null,39,null,null,50,{"$nulls":6},0,null,null,""]
[null,40,null,null,51,{"$nulls":6},0,null,null,""]
[{"$nulls":4},52,{"$nulls":6},0,null,null,""]
[{"$nulls":4},53,{"$nulls":6},0,null,null,""]
[{"$nulls":4},54,{"$nulls":6},0,null,null,""]
[{"$nulls":4},55,{"$nulls":6},0,null,null,""]
[{"$nulls":4},56,{"$nulls":6},{"$f":"$L$4","v":0},null,null,""]
[]
[null,"令和8年月日",{"$nulls":4},"↑ナンバーは必ず入れてください"]
[null,"陸上競技大会出場選手出場認知証明書"]
[null,"団　体　名",null," ",{"$nulls":4},"（略称で入力してください。）",{"$nulls":4},"最初の文字"]
[null,"校　長　名",{"$nulls":5},"印","（学校でない場合は個人名を入力してください。）",{"$nulls":4},"ひらがなで"]
[]
[null,"本校在学生であって陸上競技大会に出場することを認知します。"]
[null,null,"記載責任者名",{"$nulls":6},"緊急連絡先"]
[]
[null,null,"参加料",null,{"$f":"IF(C4=1,500,IF(C4=2,800,IF(C4=3,1000,IF(C4=4,1500,\" \"))))","v":" "},"円",null,"×",{"$f":"L79+Q79","v":0},"人",null,{"$f":"E69*I69","v":{"$error":"#VALUE!"}},null,"円"]
[]
[]
[]
[null,null,"審判協力者",null,"部署: ",null,null,"氏名: ",null,null,"補助員\n協力",null,"可　・不可"]
[{"$nulls":4},"部署: ",null,null,"氏名: "]
[]
[{"$nulls":10},"どちらかに○印お願いいたします。"]
[]
[{"$nulls":5},"ＮＯ，","所属名","記載責任者","男子",null,null,"男のべ",{"$nulls":3},"女子","女のべ",null,null,"計","計"]
[{"$nulls":4},{"$f":"C4","v":0},{"$f":"M63","v":0},{"$f":"E63","v":0},{"$f":"E67","v":0},{"$nulls":3},{"$f":"COUNTIF(F4:F59,1)","v":0},{"$f":"COUNTIF(F4:F59,3)","v":0},{"$f":"COUNTIF(M79,\">3\")","v":0},null,null,{"$f":"COUNTIF(F4:F59,2)","v":0},{"$f":"COUNTIF(F4:F59,4)","v":0},{"$f":"COUNTIF(R79,\">3\")","v":0},{"$f":"SUM(I79,P79)","v":0},{"$f":"SUM(L79,Q79)","v":0}]
[{"$nulls":6},"この部分は、何も記入しないで下さい。"]

{"sheet":"印刷用","index":1,"n_rows":80,"n_cols":18,"rows_kept":80,"merged":[[7,1,7,2],[60,1,60,2],[62,1,62,2],[62,4,62,7],[63,1,63,2],[63,4,63,6],[66,4,66,7],[68,10,68,11],[69,10,69,11],[70,10,70,11],[72,5,72,6],[72,8,72,9],[72,10,73,11],[72,12,73,13],[73,5,73,6],[73,8,73,9]]}
[null,"第12回スプリングフェスティバルin駒場申込書"]
[]
[null,null,"参加団体コード",null,"競技者ｺｰﾄﾞ","性ｺｰﾄﾞ","ﾅﾝﾊﾞｰ","氏","名","学校名","学年","出場種目ｺｰﾄﾞ","最高記録","所属地"]
[null,null,{"$f":"申込ｼｰﾄ!C4","v":0},null,1,{"$f":"申込ｼｰﾄ!F4","v":0},{"$f":"申込ｼｰﾄ!G4","v":0},{"$f":"申込ｼｰﾄ!H4","v":0},{"$f":"申込ｼｰﾄ!I4","v":0},{"$f":"E63","v":0},{"$f":"申込ｼｰﾄ!M4","v":0},{"$f":"申込ｼｰﾄ!N4","v":0},{"$f":"申込ｼｰﾄ!P4","v":0},{"$f":"申込ｼｰﾄ!Q4","v":0},"①","学校名を記入（略称で記入ください中学校は中・高校は高まで）"]
[null,null,"↑",null,2,{"$f":"申込ｼｰﾄ!F5","v":0},{"$f":"申込ｼｰﾄ!G5","v":0},{"$f":"申込ｼｰﾄ!H5","v":0},{"$f":"申込ｼｰﾄ!I5","v":0},{"$f":"$J$4","v":0},{"$f":"申込ｼｰﾄ!M5","v":0},{"$f":"申込ｼｰﾄ!N5","v":0},{"$f":"申込ｼｰﾄ!P5","v":0},{"$f":"申込ｼｰﾄ!Q5","v":0},"②","性別を記入　男子＝１　女子＝２"]
[null,"中学2･高校3･一般4",null,null,3,{"$f":"申込ｼｰﾄ!F6","v":0},{"$f":"申込ｼｰﾄ!G6","v":0},{"$f":"申込ｼｰﾄ!H6","v":0},{"$f":"申込ｼｰﾄ!I6","v":0},0,{"$f":"申込ｼｰﾄ!M6","v":0},{"$f":"申込ｼｰﾄ!N6","v":0},{"$f":"申込ｼｰﾄ!P6","v":0},{"$f":"申込ｼｰﾄ!Q6","v":0},"③","ナンバーカードを記入"]
[{"$nulls":4},4,{"$f":"申込ｼｰﾄ!F7","v":0},{"$f":"申込ｼｰﾄ!G7","v":0},{"$f":"申込ｼｰﾄ!H7","v":0},{"$f":"申込ｼｰﾄ!I7","v":0},0,{"$f":"申込ｼｰﾄ!M7","v":0},{"$f":"申込ｼｰﾄ!N7","v":0},{"$f":"申込ｼｰﾄ!P7","v":0},{"$f":"申込ｼｰﾄ!Q7","v":0},"④","氏名記入（氏と名を分けてください）"]
[null,"性別コード",null,null,5,{"$f":"申込ｼｰﾄ!F8","v":0},{"$f":"申込ｼｰﾄ!G8","v":0},{"$f":"申込ｼｰﾄ!H8","v":0},{"$f":"申込ｼｰﾄ!I8","v":0},0,{"$f":"申込ｼｰﾄ!M8","v":0},{"$f":"申込ｼｰﾄ!N8","v":0},{"$f":"申込ｼｰﾄ!P8","v":0},{"$f":"申込ｼｰﾄ!Q8","v":0},"⑤","学年を記入"]
[null,1,"男子",null,6,{"$f":"申込ｼｰﾄ!F9","v":0},{"$f":"申込ｼｰﾄ!G9","v":0},{"$f":"申込ｼｰﾄ!H9","v":0},{"$f":"申込ｼｰﾄ!I9","v":0},0,{"$f":"申込ｼｰﾄ!M9","v":0},{"$f":"申込ｼｰﾄ!N9","v":0},{"$f":"申込ｼｰﾄ!P9","v":0},{"$f":"申込ｼｰﾄ!Q9","v":0},"⑥","出場種目コードを記入"]
[null,2,"女子",null,7,{"$f":"申込ｼｰﾄ!F10","v":0},{"$f":"申込ｼｰﾄ!G10","v":0},{"$f":"申込ｼｰﾄ!H10","v":0},{"$f":"申込ｼｰﾄ!I10","v":0},0,{"$f":"申込ｼｰﾄ!M10","v":0},{"$f":"申込ｼｰﾄ!N10","v":0},{"$f":"申込ｼｰﾄ!P10","v":0},{"$f":"申込ｼｰﾄ!Q10","v":0},"⑦","シート下側も記載お願い致します。"]
[null,3,null,null,8,{"$f":"申込ｼｰﾄ!F11","v":0},{"$f":"申込ｼｰﾄ!G11","v":0},{"$f":"申込ｼｰﾄ!H11","v":0},{"$f":"申込ｼｰﾄ!I11","v":0},0,{"$f":"申込ｼｰﾄ!M11","v":0},{"$f":"申込ｼｰﾄ!N11","v":0},{"$f":"申込ｼｰﾄ!P11","v":0},{"$f":"申込ｼｰﾄ!Q11","v":0},"⑧","参加料の記入をしてください。"]
[null,4,null,null,9,{"$f":"申込ｼｰﾄ!F12","v":0},{"$f":"申込ｼｰﾄ!G12","v":0},{"$f":"申込ｼｰﾄ!H12","v":0},{"$f":"申込ｼｰﾄ!I12","v":0},0,{"$f":"申込ｼｰﾄ!M12","v":0},{"$f":"申込ｼｰﾄ!N12","v":0},{"$f":"申込ｼｰﾄ!P12","v":0},{"$f":"申込ｼｰﾄ!Q12","v":0},"⑨","記録は"]
[{"$nulls":4},10,{"$f":"申込ｼｰﾄ!F13","v":0},{"$f":"申込ｼｰﾄ!G13","v":0},{"$f":"申込ｼｰﾄ!H13","v":0},{"$f":"申込ｼｰﾄ!I13","v":0},0,{"$f":"申込ｼｰﾄ!M13","v":0},{"$f":"申込ｼｰﾄ!N13","v":0},{"$f":"申込ｼｰﾄ!P13","v":0},{"$f":"申込ｼｰﾄ!Q13","v":0},null,"分＝."]
[null,"ｺｰﾄﾞ","種目",null,11,{"$f":"申込ｼｰﾄ!F14","v":0},{"$f":"申込ｼｰﾄ!G14","v":0},{"$f":"申込ｼｰﾄ!H14","v":0},{"$f":"申込ｼｰﾄ!I14","v":0},0,{"$f":"申込ｼｰﾄ!M14","v":0},{"$f":"申込ｼｰﾄ!N14","v":0},{"$f":"申込ｼｰﾄ!P14","v":0},{"$f":"申込ｼｰﾄ!Q14","v":0},null,"秒＝."]
[null,1,"男子100m",null,12,{"$f":"申込ｼｰﾄ!F15","v":0},{"$f":"申込ｼｰﾄ!G15","v":0},{"$f":"申込ｼｰﾄ!H15","v":0},{"$f":"申込ｼｰﾄ!I15","v":0},0,{"$f":"申込ｼｰﾄ!M15","v":0},{"$f":"申込ｼｰﾄ!N15","v":0},{"$f":"申込ｼｰﾄ!P15","v":0},{"$f":"申込ｼｰﾄ!Q15","v":0},null,"ｍ＝ｍ"]
[null,2,"男子400m",null,13,{"$f":"申込ｼｰﾄ!F16","v":0},{"$f":"申込ｼｰﾄ!G16","v":0},{"$f":"申込ｼｰﾄ!H16","v":0},{"$f":"申込ｼｰﾄ!I16","v":0},{"$f":"$J$4","v":0},{"$f":"申込ｼｰﾄ!M16","v":0},{"$f":"申込ｼｰﾄ!N16","v":0},{"$f":"申込ｼｰﾄ!P16","v":0},{"$f":"申込ｼｰﾄ!Q16","v":0},null,"数字は半角でお願いします。"]
[null,3,"男子800m",null,14,{"$f":"申込ｼｰﾄ!F17","v":0},{"$f":"申込ｼｰﾄ!G17","v":0},{"$f":"申込ｼｰﾄ!H17","v":0},{"$f":"申込ｼｰﾄ!I17","v":0},0,{"$f":"申込ｼｰﾄ!M17","v":0},{"$f":"申込ｼｰﾄ!N17","v":0},{"$f":"申込ｼｰﾄ!P17","v":0},{"$f":"申込ｼｰﾄ!Q17","v":0}]
[null,4,"男子1500m",null,15,{"$f":"申込ｼｰﾄ!F18","v":0},{"$f":"申込ｼｰﾄ!G18","v":0},{"$f":"申込ｼｰﾄ!H18","v":0},{"$f":"申込ｼｰﾄ!I18","v":0},0,{"$f":"申込ｼｰﾄ!M18","v":0},{"$f":"申込ｼｰﾄ!N18","v":0},{"$f":"申込ｼｰﾄ!P18","v":0},{"$f":"申込ｼｰﾄ!Q18","v":0}]
[null,5,"男子5000m",null,16,{"$f":"申込ｼｰﾄ!F19","v":0},{"$f":"申込ｼｰﾄ!G19","v":0},{"$f":"申込ｼｰﾄ!H19","v":0},{"$f":"申込ｼｰﾄ!I19","v":0},0,{"$f":"申込ｼｰﾄ!M19","v":0},{"$f":"申込ｼｰﾄ!N19","v":0},{"$f":"申込ｼｰﾄ!P19","v":0},{"$f":"申込ｼｰﾄ!Q19","v":0}]
[null,6,"中学男子110mH(0.914m)",null,17,{"$f":"申込ｼｰﾄ!F20","v":0},{"$f":"申込ｼｰﾄ!G20","v":0},{"$f":"申込ｼｰﾄ!H20","v":0},{"$f":"申込ｼｰﾄ!I20","v":0},0,{"$f":"申込ｼｰﾄ!M20","v":0},{"$f":"申込ｼｰﾄ!N20","v":0},{"$f":"申込ｼｰﾄ!P20","v":0},{"$f":"申込ｼｰﾄ!Q20","v":0}]
[null,7,"男子110mH(1.067m)",null,18,{"$f":"申込ｼｰﾄ!F21","v":0},{"$f":"申込ｼｰﾄ!G21","v":0},{"$f":"申込ｼｰﾄ!H21","v":0},{"$f":"申込ｼｰﾄ!I21","v":0},0,{"$f":"申込ｼｰﾄ!M21","v":0},{"$f":"申込ｼｰﾄ!N21","v":0},{"$f":"申込ｼｰﾄ!P21","v":0},{"$f":"申込ｼｰﾄ!Q21","v":0}]
[null,8,null,null,19,{"$f":"申込ｼｰﾄ!F22","v":0},{"$f":"申込ｼｰﾄ!G22","v":0},{"$f":"申込ｼｰﾄ!H22","v":0},{"$f":"申込ｼｰﾄ!I22","v":0},0,{"$f":"申込ｼｰﾄ!M22","v":0},{"$f":"申込ｼｰﾄ!N22","v":0},{"$f":"申込ｼｰﾄ!P22","v":0},{"$f":"申込ｼｰﾄ!Q22","v":0}]
[null,9,null,null,20,{"$f":"申込ｼｰﾄ!F23","v":0},{"$f":"申込ｼｰﾄ!G23","v":0},{"$f":"申込ｼｰﾄ!H23","v":0},{"$f":"申込ｼｰﾄ!I23","v":0},0,{"$f":"申込ｼｰﾄ!M23","v":0},{"$f":"申込ｼｰﾄ!N23","v":0},{"$f":"申込ｼｰﾄ!P23","v":0},{"$f":"申込ｼｰﾄ!Q23","v":0}]
[null,10,"男子走高跳",null,21,{"$f":"申込ｼｰﾄ!F24","v":0},{"$f":"申込ｼｰﾄ!G24","v":0},{"$f":"申込ｼｰﾄ!H24","v":0},{"$f":"申込ｼｰﾄ!I24","v":0},0,{"$f":"申込ｼｰﾄ!M24","v":0},{"$f":"申込ｼｰﾄ!N24","v":0},{"$f":"申込ｼｰﾄ!P24","v":0},{"$f":"申込ｼｰﾄ!Q24","v":0}]
[null,11,"男子棒高跳",null,22,{"$f":"申込ｼｰﾄ!F25","v":0},{"$f":"申込ｼｰﾄ!G25","v":0},{"$f":"申込ｼｰﾄ!H25","v":0},{"$f":"申込ｼｰﾄ!I25","v":0},0,{"$f":"申込ｼｰﾄ!M25","v":0},{"$f":"申込ｼｰﾄ!N25","v":0},{"$f":"申込ｼｰﾄ!P25","v":0},{"$f":"申込ｼｰﾄ!Q25","v":0}]
[null,12,"男子走幅跳",null,23,{"$f":"申込ｼｰﾄ!F26","v":0},{"$f":"申込ｼｰﾄ!G26","v":0},{"$f":"申込ｼｰﾄ!H26","v":0},{"$f":"申込ｼｰﾄ!I26","v":0},0,{"$f":"申込ｼｰﾄ!M26","v":0},{"$f":"申込ｼｰﾄ!N26","v":0},{"$f":"申込ｼｰﾄ!P26","v":0},{"$f":"申込ｼｰﾄ!Q26","v":0}]
[null,13,"中学男子砲丸投(5.000kg)",null,24,{"$f":"申込ｼｰﾄ!F27","v":0},{"$f":"申込ｼｰﾄ!G27","v":0},{"$f":"申込ｼｰﾄ!H27","v":0},{"$f":"申込ｼｰﾄ!I27","v":0},0,{"$f":"申込ｼｰﾄ!M27","v":0},{"$f":"申込ｼｰﾄ!N27","v":0},{"$f":"申込ｼｰﾄ!P27","v":0},{"$f":"申込ｼｰﾄ!Q27","v":0}]
[null,14,"高校男子砲丸投(6.000kg)",null,25,{"$f":"申込ｼｰﾄ!F28","v":0},{"$f":"申込ｼｰﾄ!G28","v":0},{"$f":"申込ｼｰﾄ!H28","v":0},{"$f":"申込ｼｰﾄ!I28","v":0},0,{"$f":"申込ｼｰﾄ!M28","v":0},{"$f":"申込ｼｰﾄ!N28","v":0},{"$f":"申込ｼｰﾄ!P28","v":0},{"$f":"申込ｼｰﾄ!Q28","v":0}]
[null,15,"男子砲丸投(7.260kg)",null,26,{"$f":"申込ｼｰﾄ!F29","v":0},{"$f":"申込ｼｰﾄ!G29","v":0},{"$f":"申込ｼｰﾄ!H29","v":0},{"$f":"申込ｼｰﾄ!I29","v":0},0,{"$f":"申込ｼｰﾄ!M29","v":0},{"$f":"申込ｼｰﾄ!N29","v":0},{"$f":"申込ｼｰﾄ!P29","v":0},{"$f":"申込ｼｰﾄ!Q29","v":0}]
[null,16,"女子100m",null,27,{"$f":"申込ｼｰﾄ!F30","v":0},{"$f":"申込ｼｰﾄ!G30","v":0},{"$f":"申込ｼｰﾄ!H30","v":0},{"$f":"申込ｼｰﾄ!I30","v":0},0,{"$f":"申込ｼｰﾄ!M30","v":0},{"$f":"申込ｼｰﾄ!N30","v":0},{"$f":"申込ｼｰﾄ!P30","v":0},{"$f":"申込ｼｰﾄ!Q30","v":0}]
[null,17,"女子400m",null,28,{"$f":"申込ｼｰﾄ!F31","v":0},{"$f":"申込ｼｰﾄ!G31","v":0},{"$f":"申込ｼｰﾄ!H31","v":0},{"$f":"申込ｼｰﾄ!I31","v":0},0,{"$f":"申込ｼｰﾄ!M31","v":0},{"$f":"申込ｼｰﾄ!N31","v":0},{"$f":"申込ｼｰﾄ!P31","v":0},{"$f":"申込ｼｰﾄ!Q31","v":0}]
[null,18,"女子800m",null,29,{"$f":"申込ｼｰﾄ!F32","v":0},{"$f":"申込ｼｰﾄ!G32","v":0},{"$f":"申込ｼｰﾄ!H32","v":0},{"$f":"申込ｼｰﾄ!I32","v":0},0,{"$f":"申込ｼｰﾄ!M32","v":0},{"$f":"申込ｼｰﾄ!N32","v":0},{"$f":"申込ｼｰﾄ!P32","v":0},{"$f":"申込ｼｰﾄ!Q32","v":0}]
[null,19,"女子1500m",null,30,{"$f":"申込ｼｰﾄ!F33","v":0},{"$f":"申込ｼｰﾄ!G33","v":0},{"$f":"申込ｼｰﾄ!H33","v":0},{"$f":"申込ｼｰﾄ!I33","v":0},0,{"$f":"申込ｼｰﾄ!M33","v":0},{"$f":"申込ｼｰﾄ!N33","v":0},{"$f":"申込ｼｰﾄ!P33","v":0},{"$f":"申込ｼｰﾄ!Q33","v":0}]
[null,20,"女子3000m",null,31,{"$f":"申込ｼｰﾄ!F34","v":0},{"$f":"申込ｼｰﾄ!G34","v":0},{"$f":"申込ｼｰﾄ!H34","v":0},{"$f":"申込ｼｰﾄ!I34","v":0},0,{"$f":"申込ｼｰﾄ!M34","v":0},{"$f":"申込ｼｰﾄ!N34","v":0},{"$f":"申込ｼｰﾄ!P34","v":0},{"$f":"申込ｼｰﾄ!Q34","v":0}]
[null,21,"中学女子100mH(0.762m)",null,32,{"$f":"申込ｼｰﾄ!F35","v":0},{"$f":"申込ｼｰﾄ!G35","v":0},{"$f":"申込ｼｰﾄ!H35","v":0},{"$f":"申込ｼｰﾄ!I35","v":0},0,{"$f":"申込ｼｰﾄ!M35","v":0},{"$f":"申込ｼｰﾄ!N35","v":0},{"$f":"申込ｼｰﾄ!P35","v":0},{"$f":"申込ｼｰﾄ!Q35","v":0}]
[null,22,"女子100mH(0.840m)",null,33,{"$f":"申込ｼｰﾄ!F36","v":0},{"$f":"申込ｼｰﾄ!G36","v":0},{"$f":"申込ｼｰﾄ!H36","v":0},{"$f":"申込ｼｰﾄ!I36","v":0},0,{"$f":"申込ｼｰﾄ!M36","v":0},{"$f":"申込ｼｰﾄ!N36","v":0},{"$f":"申込ｼｰﾄ!P36","v":0},{"$f":"申込ｼｰﾄ!Q36","v":0}]
[null,23,null,null,34,{"$f":"申込ｼｰﾄ!F37","v":0},{"$f":"申込ｼｰﾄ!G37","v":0},{"$f":"申込ｼｰﾄ!H37","v":0},{"$f":"申込ｼｰﾄ!I37","v":0},0,{"$f":"申込ｼｰﾄ!M37","v":0},{"$f":"申込ｼｰﾄ!N37","v":0},{"$f":"申込ｼｰﾄ!P37","v":0},{"$f":"申込ｼｰﾄ!Q37","v":0}]
[null,24,null,null,35,{"$f":"申込ｼｰﾄ!F38","v":0},{"$f":"申込ｼｰﾄ!G38","v":0},{"$f":"申込ｼｰﾄ!H38","v":0},{"$f":"申込ｼｰﾄ!I38","v":0},0,{"$f":"申込ｼｰﾄ!M38","v":0},{"$f":"申込ｼｰﾄ!N38","v":0},{"$f":"申込ｼｰﾄ!P38","v":0},{"$f":"申込ｼｰﾄ!Q38","v":0}]
[null,25,"女子走高跳",null,36,{"$f":"申込ｼｰﾄ!F39","v":0},{"$f":"申込ｼｰﾄ!G39","v":0},{"$f":"申込ｼｰﾄ!H39","v":0},{"$f":"申込ｼｰﾄ!I39","v":0},0,{"$f":"申込ｼｰﾄ!M39","v":0},{"$f":"申込ｼｰﾄ!N39","v":0},{"$f":"申込ｼｰﾄ!P39","v":0},{"$f":"申込ｼｰﾄ!Q39","v":0}]
[null,26,"女子棒高跳",null,37,{"$f":"申込ｼｰﾄ!F40","v":0},{"$f":"申込ｼｰﾄ!G40","v":0},{"$f":"申込ｼｰﾄ!H40","v":0},{"$f":"申込ｼｰﾄ!I40","v":0},0,{"$f":"申込ｼｰﾄ!M40","v":0},{"$f":"申込ｼｰﾄ!N40","v":0},{"$f":"申込ｼｰﾄ!P40","v":0},{"$f":"申込ｼｰﾄ!Q40","v":0}]
[null,27,"女子走幅跳",null,38,{"$f":"申込ｼｰﾄ!F41","v":0},{"$f":"申込ｼｰﾄ!G41","v":0},{"$f":"申込ｼｰﾄ!H41","v":0},{"$f":"申込ｼｰﾄ!I41","v":0},0,{"$f":"申込ｼｰﾄ!M41","v":0},{"$f":"申込ｼｰﾄ!N41","v":0},{"$f":"申込ｼｰﾄ!P41","v":0},{"$f":"申込ｼｰﾄ!Q41","v":0}]
[null,28,"中学女子砲丸投(2.721kg)",null,39,{"$f":"申込ｼｰﾄ!F42","v":0},{"$f":"申込ｼｰﾄ!G42","v":0},{"$f":"申込ｼｰﾄ!H42","v":0},{"$f":"申込ｼｰﾄ!I42","v":0},0,{"$f":"申込ｼｰﾄ!M42","v":0},{"$f":"申込ｼｰﾄ!N42","v":0},{"$f":"申込ｼｰﾄ!P42","v":0},{"$f":"申込ｼｰﾄ!Q42","v":0}]
[null,29,"女子砲丸投(4.000kg)",null,40,{"$f":"申込ｼｰﾄ!F43","v":0},{"$f":"申込ｼｰﾄ!G43","v":0},{"$f":"申込ｼｰﾄ!H43","v":0},{"$f":"申込ｼｰﾄ!I43","v":0},0,{"$f":"申込ｼｰﾄ!M43","v":0},{"$f":"申込ｼｰﾄ!N43","v":0},{"$f":"申込ｼｰﾄ!P43","v":0},{"$f":"申込ｼｰﾄ!Q43","v":0}]
[null,30,null,null,41,{"$f":"申込ｼｰﾄ!F44","v":0},{"$f":"申込ｼｰﾄ!G44","v":0},{"$f":"申込ｼｰﾄ!H44","v":0},{"$f":"申込ｼｰﾄ!I44","v":0},0,{"$f":"申込ｼｰﾄ!M44","v":0},{"$f":"申込ｼｰﾄ!N44","v":0},{"$f":"申込ｼｰﾄ!P44","v":0},{"$f":"申込ｼｰﾄ!Q44","v":0}]
[null,31,null,null,42,{"$f":"申込ｼｰﾄ!F45","v":0},{"$f":"申込ｼｰﾄ!G45","v":0},{"$f":"申込ｼｰﾄ!H45","v":0},{"$f":"申込ｼｰﾄ!I45","v":0},0,{"$f":"申込ｼｰﾄ!M45","v":0},{"$f":"申込ｼｰﾄ!N45","v":0},{"$f":"申込ｼｰﾄ!P45","v":0},{"$f":"申込ｼｰﾄ!Q45","v":0}]
[null,32,null,null,43,{"$f":"申込ｼｰﾄ!F46","v":0},{"$f":"申込ｼｰﾄ!G46","v":0},{"$f":"申込ｼｰﾄ!H46","v":0},{"$f":"申込ｼｰﾄ!I46","v":0},0,{"$f":"申込ｼｰﾄ!M46","v":0},{"$f":"申込ｼｰﾄ!N46","v":0},{"$f":"申込ｼｰﾄ!P46","v":0},{"$f":"申込ｼｰﾄ!Q46","v":0}]
[null,33,null,null,44,{"$f":"申込ｼｰﾄ!F47","v":0},{"$f":"申込ｼｰﾄ!G47","v":0},{"$f":"申込ｼｰﾄ!H47","v":0},{"$f":"申込ｼｰﾄ!I47","v":0},0,{"$f":"申込ｼｰﾄ!M47","v":0},{"$f":"申込ｼｰﾄ!N47","v":0},{"$f":"申込ｼｰﾄ!P47","v":0},{"$f":"申込ｼｰﾄ!Q47","v":0}]
[null,34,null,null,45,{"$f":"申込ｼｰﾄ!F48","v":0},{"$f":"申込ｼｰﾄ!G48","v":0},{"$f":"申込ｼｰﾄ!H48","v":0},{"$f":"申込ｼｰﾄ!I48","v":0},0,{"$f":"申込ｼｰﾄ!M48","v":0},{"$f":"申込ｼｰﾄ!N48","v":0},{"$f":"申込ｼｰﾄ!P48","v":0},{"$f":"申込ｼｰﾄ!Q48","v":0}]
[null,35,null,null,46,{"$f":"申込ｼｰﾄ!F49","v":0},{"$f":"申込ｼｰﾄ!G49","v":0},{"$f":"申込ｼｰﾄ!H49","v":0},{"$f":"申込ｼｰﾄ!I49","v":0},0,{"$f":"申込ｼｰﾄ!M49","v":0},{"$f":"申込ｼｰﾄ!N49","v":0},{"$f":"申込ｼｰﾄ!P49","v":0},{"$f":"申込ｼｰﾄ!Q49","v":0}]
[null,36,null,null,47,{"$f":"申込ｼｰﾄ!F50","v":0},{"$f":"申込ｼｰﾄ!G50","v":0},{"$f":"申込ｼｰﾄ!H50","v":0},{"$f":"申込ｼｰﾄ!I50","v":0},0,{"$f":"申込ｼｰﾄ!M50","v":0},{"$f":"申込ｼｰﾄ!N50","v":0},{"$f":"申込ｼｰﾄ!P50","v":0},{"$f":"申込ｼｰﾄ!Q50","v":0}]
[null,37,null,null,48,{"$f":"申込ｼｰﾄ!F51","v":0},{"$f":"申込ｼｰﾄ!G51","v":0},{"$f":"申込ｼｰﾄ!H51","v":0},{"$f":"申込ｼｰﾄ!I51","v":0},0,{"$f":"申込ｼｰﾄ!M51","v":0},{"$f":"申込ｼｰﾄ!N51","v":0},{"$f":"申込ｼｰﾄ!P51","v":0},{"$f":"申込ｼｰﾄ!Q51","v":0}]
[null,38,null,null,49,{"$f":"申込ｼｰﾄ!F52","v":0},{"$f":"申込ｼｰﾄ!G52","v":0},{"$f":"申込ｼｰﾄ!H52","v":0},{"$f":"申込ｼｰﾄ!I52","v":0},0,{"$f":"申込ｼｰﾄ!M52","v":0},{"$f":"申込ｼｰﾄ!N52","v":0},{"$f":"申込ｼｰﾄ!P52","v":0},{"$f":"申込ｼｰﾄ!Q52","v":0}]
[null,39,null,null,50,{"$f":"申込ｼｰﾄ!F53","v":0},{"$f":"申込ｼｰﾄ!G53","v":0},{"$f":"申込ｼｰﾄ!H53","v":0},{"$f":"申込ｼｰﾄ!I53","v":0},0,{"$f":"申込ｼｰﾄ!M53","v":0},{"$f":"申込ｼｰﾄ!N53","v":0},{"$f":"申込ｼｰﾄ!P53","v":0},{"$f":"申込ｼｰﾄ!Q53","v":0}]
[null,40,null,null,51,{"$f":"申込ｼｰﾄ!F54","v":0},{"$f":"申込ｼｰﾄ!G54","v":0},{"$f":"申込ｼｰﾄ!H54","v":0},{"$f":"申込ｼｰﾄ!I54","v":0},0,{"$f":"申込ｼｰﾄ!M54","v":0},{"$f":"申込ｼｰﾄ!N54","v":0},{"$f":"申込ｼｰﾄ!P54","v":0},{"$f":"申込ｼｰﾄ!Q54","v":0}]
[{"$nulls":4},52,{"$f":"申込ｼｰﾄ!F55","v":0},{"$f":"申込ｼｰﾄ!G55","v":0},{"$f":"申込ｼｰﾄ!H55","v":0},{"$f":"申込ｼｰﾄ!I55","v":0},0,{"$f":"申込ｼｰﾄ!M55","v":0},{"$f":"申込ｼｰﾄ!N55","v":0},{"$f":"申込ｼｰﾄ!P55","v":0},{"$f":"申込ｼｰﾄ!Q55","v":0}]
[{"$nulls":4},53,{"$f":"申込ｼｰﾄ!F56","v":0},{"$f":"申込ｼｰﾄ!G56","v":0},{"$f":"申込ｼｰﾄ!H56","v":0},{"$f":"申込ｼｰﾄ!I56","v":0},0,{"$f":"申込ｼｰﾄ!M56","v":0},{"$f":"申込ｼｰﾄ!N56","v":0},{"$f":"申込ｼｰﾄ!P56","v":0},{"$f":"申込ｼｰﾄ!Q56","v":0}]
[{"$nulls":4},54,{"$f":"申込ｼｰﾄ!F57","v":0},{"$f":"申込ｼｰﾄ!G57","v":0},{"$f":"申込ｼｰﾄ!H57","v":0},{"$f":"申込ｼｰﾄ!I57","v":0},0,{"$f":"申込ｼｰﾄ!M57","v":0},{"$f":"申込ｼｰﾄ!N57","v":0},{"$f":"申込ｼｰﾄ!P57","v":0},{"$f":"申込ｼｰﾄ!Q57","v":0}]
[{"$nulls":4},55,{"$f":"申込ｼｰﾄ!F58","v":0},{"$f":"申込ｼｰﾄ!G58","v":0},{"$f":"申込ｼｰﾄ!H58","v":0},{"$f":"申込ｼｰﾄ!I58","v":0},0,{"$f":"申込ｼｰﾄ!M58","v":0},{"$f":"申込ｼｰﾄ!N58","v":0},{"$f":"申込ｼｰﾄ!P58","v":0},{"$f":"申込ｼｰﾄ!Q58","v":0}]
[{"$nulls":4},56,{"$f":"申込ｼｰﾄ!F59","v":0},{"$f":"申込ｼｰﾄ!G59","v":0},{"$f":"申込ｼｰﾄ!H59","v":0},{"$f":"申込ｼｰﾄ!I59","v":0},{"$f":"$J$4","v":0},{"$f":"申込ｼｰﾄ!M59","v":0},{"$f":"申込ｼｰﾄ!N59","v":0},{"$f":"申込ｼｰﾄ!P59","v":0},{"$f":"申込ｼｰﾄ!Q59","v":0}]
[]
[null,{"$f":"申込ｼｰﾄ!B61","v":"令和8年月日"}]
[null,"陸上競技大会出場選手出場認知証明書"]
[null,"学　校　名",null," ",{"$f":"申込ｼｰﾄ!E63","v":0},{"$nulls":3},"（略称で入力してください。）",{"$nulls":3},{"$f":"申込ｼｰﾄ!M63","v":0},"最初の文字"]
[null,"校　長　名",null,null,{"$f":"申込ｼｰﾄ!E64","v":0},null,null,"印","（学校でない場合は個人名を入力してください。）",{"$nulls":4},"ひらがなで"]
[]
[null,"本校在学生であって陸上競技大会に出場することを認知します。"]
[null,null,"記載責任者名",null,{"$f":"申込ｼｰﾄ!E67","v":0},{"$nulls":4},"緊急連絡先",{"$f":"申込ｼｰﾄ!K67","v":0}]
[]
[null,null,"参加料",null,{"$f":"申込ｼｰﾄ!E69","v":" "},"円",null,"×",{"$f":"申込ｼｰﾄ!I69","v":0},"人　＝",{"$f":"申込ｼｰﾄ!L69","v":{"$error":"#VALUE!"}},null,"円"]
[]
[]
[]
[null,null,"審判協力者",null,"部署: ",{"$f":"申込ｼｰﾄ!F73","v":0},null,"氏名: ",{"$f":"申込ｼｰﾄ!I73","v":0},null,"補助員\n協力",null,"可　・不可"]
[{"$nulls":4},"部署: ",{"$f":"申込ｼｰﾄ!F74","v":0},null,"氏名: ",{"$f":"申込ｼｰﾄ!I74","v":0}]
[]
[{"$nulls":10},"どちらかに○印お願いいたします。"]
[]
[{"$nulls":5},"ＮＯ，","所属名","記載責任者","男子","男のべ","男ﾘﾚｰ人数","男リレー","女子","女のべ","女ﾘﾚｰ人数","女リレー","計","計"]
[{"$nulls":4},{"$f":"C4","v":0},{"$f":"M63","v":0},{"$f":"E63","v":0},{"$f":"E67","v":0},null,{"$f":"COUNTIF(F4:F59,1)","v":0},{"$f":"COUNTIF(F4:F59,3)","v":0},{"$f":"COUNTIF(K79,\">3\")","v":0},null,{"$f":"COUNTIF(F4:F59,2)","v":0},{"$f":"COUNTIF(F4:F59,4)","v":0},{"$f":"COUNTIF(O79,\">3\")","v":0},{"$f":"SUM(I79,M79)","v":0},{"$f":"SUM(J79,N79)","v":0}]
[{"$nulls":6},"この部分は、何も記入しないで下さいませ。"]

{"sheet":"記入例","index":2,"n_rows":80,"n_cols":21,"rows_kept":80,"merged":[[7,1,7,2],[60,1,60,2],[62,1,62,2],[62,4,62,7],[63,1,63,2],[63,4,63,6],[66,4,66,7],[68,11,68,12],[69,11,69,12],[70,11,70,12],[72,10,73,11],[72,12,73,13]]}
[null,"第12回スプリングフェスティバルin駒場申込書"]
[]
[null,null,"参加団体コード",null,"競技者ｺｰﾄﾞ","性ｺｰﾄﾞ","ﾅﾝﾊﾞｰ","氏","名","ﾌﾘ","ｶﾞﾅ","団体名","学年","出場種目ｺｰﾄﾞ","出場種目","最高記録","都道府県名","JAAF-ID"]
[null,null,2,null,1,1,2551,"山田","太郎","ﾔﾏﾀﾞ","ﾀﾛｳ",{"$f":"E63","v":"原山中"},1,1,{"$f":"IF(N4=\"\",\"\",VLOOKUP(N4,$B$15:$Q$54,2))","v":"男子100m"},"2.08.55","埼玉","001122233344455",null,"①","団体名を記入（略称で記入ください中学校は中・高校は高まで）"]
[null,null,"↑",null,2,1,2552,"田中","一郎","ﾀﾅｶ","ｲﾁﾛｳ",{"$f":"$L$4","v":"原山中"},2,2,{"$f":"IF(N5=\"\",\"\",VLOOKUP(N5,$B$15:$Q$54,2))","v":"男子400m"},"5.05.44","埼玉",{"$nulls":3},"（記入場所はページ下部の団体名。E63セル）"]
[null,"中学2･高校3･一般4",null,null,3,2,1299,"鈴木","花子","ｽｽﾞｷ","ﾊﾅｺ",{"$f":"$L$4","v":"原山中"},1,20,"女子3000m","5.45.33","埼玉",null,null,"②","性別を記入　男子＝１　女子＝２"]
[{"$nulls":4},4,2,1300,"佐藤","和子","ｻﾄｳ","ｶｽﾞｺ","原山中",2,22,"女子100mH(0.840m)","11.08.43","埼玉",null,null,"③","ナンバーカードを記入"]
[null,"性別コード",null,null,5,{"$nulls":6},"原山中",null,null,"",{"$nulls":4},"④","氏名記入（氏と名を分けてください）"]
[null,1,"男子",null,6,{"$nulls":6},"原山中",null,null,"",{"$nulls":4},"⑤","フリガナは半角カタカナ"]
[null,2,"女子",null,7,{"$nulls":6},"原山中",null,null,"",{"$nulls":4},"⑥","学年を記入"]
[null,3,null,null,8,{"$nulls":6},"原山中",null,null,"",{"$nulls":4},"⑦","出場種目コードを記入"]
[null,4,null,null,9,{"$nulls":6},"原山中",null,null,"",{"$nulls":4},"⑧","シート下側も記載お願い致します。"]
[{"$nulls":4},10,{"$nulls":6},"原山中",null,null,"",{"$nulls":4},"⑨","参加料の記入をしてください。"]
[null,"ｺｰﾄﾞ","種目",null,11,{"$nulls":6},"原山中",null,null,"",{"$nulls":4},"⑩","記録は"]
[null,1,"男子100m",null,12,{"$nulls":6},"原山中",null,null,"",{"$nulls":5},"分＝."]
[null,2,"男子400m",null,13,{"$nulls":6},"原山中",null,null,"",{"$nulls":5},"秒＝."]
[null,3,"男子800m",null,14,{"$nulls":6},"原山中",null,null,"",{"$nulls":5},"ｍ＝ｍ"]
[null,4,"男子1500m",null,15,{"$nulls":6},"原山中",null,null,"",{"$nulls":5},"数字は半角でお願いします。"]
[null,5,"男子5000m",null,16,{"$nulls":6},"原山中",null,null,""]
[null,6,"中学男子110mH(0.914m)",null,17,{"$nulls":6},"原山中",null,null,""]
[null,7,"男子110mH(1.067m)",null,18,{"$nulls":6},"原山中",null,null,""]
[null,8,null,null,19,{"$nulls":6},"原山中",null,null,""]
[null,9,null,null,20,{"$nulls":6},"原山中",null,null,""]
[null,10,"男子走高跳",null,21,{"$nulls":6},"原山中",null,null,""]
[null,11,"男子棒高跳",null,22,{"$nulls":6},"原山中",null,null,""]
[null,12,"男子走幅跳",null,23,{"$nulls":6},"原山中",null,null,""]
[null,13,"中学男子砲丸投(5.000kg)",null,24,{"$nulls":6},"原山中",null,null,""]
[null,14,"高校男子砲丸投(6.000kg)",null,25,{"$nulls":6},"原山中",null,null,""]
[null,15,"男子砲丸投(7.260kg)",null,26,{"$nulls":6},"原山中",null,null,""]
[null,16,"女子100m",null,27,{"$nulls":6},"原山中",null,null,""]
[null,17,"女子400m",null,28,{"$nulls":6},"原山中",null,null,""]
[null,18,"女子800m",null,29,{"$nulls":6},"原山中",null,null,""]
[null,19,"女子1500m",null,30,{"$nulls":6},"原山中",null,null,""]
[null,20,"女子3000m",null,31,{"$nulls":6},"原山中",null,null,""]
[null,21,"中学女子100mH(0.762m)",null,32,{"$nulls":6},"原山中",null,null,""]
[null,22,"女子100mH(0.840m)",null,33,{"$nulls":6},"原山中",null,null,""]
[null,23,null,null,34,{"$nulls":6},"原山中",null,null,""]
[null,24,null,null,35,{"$nulls":6},"原山中",null,null,""]
[null,25,"女子走高跳",null,36,{"$nulls":6},"原山中",null,null,""]
[null,26,"女子棒高跳",null,37,{"$nulls":6},"原山中",null,null,""]
[null,27,"女子走幅跳",null,38,{"$nulls":6},"原山中",null,null,""]
[null,28,"中学女子砲丸投(2.721kg)",null,39,{"$nulls":6},"原山中",null,null,""]
[null,29,"女子砲丸投(4.000kg)",null,40,{"$nulls":6},"原山中",null,null,""]
[null,30,null,null,41,{"$nulls":6},"原山中",null,null,""]
[null,31,null,null,42,{"$nulls":6},"原山中",null,null,""]
[null,32,null,null,43,{"$nulls":6},"原山中",null,null,""]
[null,33,null,null,44,{"$nulls":6},"原山中",null,null,""]
[null,34,null,null,45,{"$nulls":6},"原山中",null,null,""]
[null,35,null,null,46,{"$nulls":6},"原山中",null,null,""]
[null,36,null,null,47,{"$nulls":6},"原山中",null,null,""]
[null,37,null,null,48,{"$nulls":6},"原山中",null,null,""]
[null,38,null,null,49,{"$nulls":6},"原山中",null,null,""]
[null,39,null,null,50,{"$nulls":6},"原山中",null,null,""]
[null,40,null,null,51,{"$nulls":6},"原山中",null,null,""]
[{"$nulls":4},52,{"$nulls":6},"原山中",null,null,""]
[{"$nulls":4},53,{"$nulls":6},"原山中",null,null,""]
[{"$nulls":4},54,{"$nulls":6},"原山中",null,null,""]
[{"$nulls":4},55,{"$nulls":6},"原山中",null,null,""]
[{"$nulls":4},56,{"$nulls":6},{"$f":"$L$4","v":"原山中"},null,null,""]
[]
[null,"令和8年月日"]
[null,"陸上競技大会出場選手出場認知証明書"]
[null,"団　体　名",null," ","原山中",{"$nulls":3},"（略称で入力してください。）",{"$nulls":3},"は","最初の文字"]
[null,"校　長　名",{"$nulls":5},"印","（学校でない場合は個人名を入力してください。）",{"$nulls":4},"ひらがなで"]
[]
[null,"本校在学生であって陸上競技大会に出場することを認知します。"]
[null,null,"記載責任者名",{"$nulls":6},"緊急連絡先"]
[]
[null,null,"参加料",null,{"$f":"IF(C4=1,500,IF(C4=2,800,IF(C4=3,800,IF(C4=4,1000,\" \"))))","v":{"v":800,"d":"800 "}},"円",null,"×",{"$f":"L79+Q79","v":4},"人",null,{"$f":"E69*I69","v":{"v":3200,"d":"3,200 "}},null,"円"]
[]
[]
[]
[null,null,"審判協力者",null,"部署: ","記録",null,"氏名: ","中里信立",null,"補助員\n協力",null,"可　・不可"]
[{"$nulls":4},"部署: ",null,null,"氏名: "]
[]
[{"$nulls":10},"どちらかに○印お願いいたします。"]
[]
[{"$nulls":5},"ＮＯ，","所属名","記載責任者","男子",null,null,"男のべ",{"$nulls":3},"女子","女のべ",null,null,"計","計"]
[{"$nulls":4},{"$f":"C4","v":2},{"$f":"M63","v":"は"},{"$f":"E63","v":"原山中"},{"$f":"E67","v":0},{"$nulls":3},{"$f":"COUNTIF(F4:F59,1)","v":2},{"$f":"COUNTIF(F4:F59,3)","v":0},{"$f":"COUNTIF(M79,\">3\")","v":0},null,null,{"$f":"COUNTIF(F4:F59,2)","v":2},{"$f":"COUNTIF(F4:F59,4)","v":0},{"$f":"COUNTIF(R79,\">3\")","v":0},{"$f":"SUM(I79,P79)","v":0},{"$f":"SUM(L79,Q79)","v":4}]
[{"$nulls":6},"この部分は、何も記入しないで下さい。"]